BEGIN:VCALENDAR
VERSION:2.0
PRODID:-//Real Crisis Center - ECPv6.15.17//NONSGML v1.0//EN
CALSCALE:GREGORIAN
METHOD:PUBLISH
X-WR-CALNAME:Real Crisis Center
X-ORIGINAL-URL:https://www.realcrisis.org
X-WR-CALDESC:Events for Real Crisis Center
REFRESH-INTERVAL;VALUE=DURATION:PT1H
X-Robots-Tag:noindex
X-PUBLISHED-TTL:PT1H
BEGIN:VTIMEZONE
TZID:America/New_York
BEGIN:DAYLIGHT
TZOFFSETFROM:-0500
TZOFFSETTO:-0400
TZNAME:EDT
DTSTART:20240310T070000
END:DAYLIGHT
BEGIN:STANDARD
TZOFFSETFROM:-0400
TZOFFSETTO:-0500
TZNAME:EST
DTSTART:20241103T060000
END:STANDARD
BEGIN:DAYLIGHT
TZOFFSETFROM:-0500
TZOFFSETTO:-0400
TZNAME:EDT
DTSTART:20250309T070000
END:DAYLIGHT
BEGIN:STANDARD
TZOFFSETFROM:-0400
TZOFFSETTO:-0500
TZNAME:EST
DTSTART:20251102T060000
END:STANDARD
BEGIN:DAYLIGHT
TZOFFSETFROM:-0500
TZOFFSETTO:-0400
TZNAME:EDT
DTSTART:20260308T070000
END:DAYLIGHT
BEGIN:STANDARD
TZOFFSETFROM:-0400
TZOFFSETTO:-0500
TZNAME:EST
DTSTART:20261101T060000
END:STANDARD
END:VTIMEZONE
BEGIN:VEVENT
DTSTART;TZID=America/New_York:20250517T083000
DTEND;TZID=America/New_York:20250517T120000
DTSTAMP:20260422T045758
CREATED:20250417T183248Z
LAST-MODIFIED:20250417T183248Z
UID:10000011-1747470600-1747483200@www.realcrisis.org
SUMMARY:Tackle the Tar
DESCRIPTION:Tackle the Tar is a 5K obstacle course race held in Rocky Mount\, North Carolina\, hosted by the Rotary Club of Rocky Mount. There are 15+ obstacles along the course. There are heats for competitive runners\, as well as fun run heats. There is even a shorter course for kids to traverse. The annual event raises funds for local scholarships for students and\, to date\, has awarded over $600\,000 dollars in scholarship funds since its inception. This year\, the event will be held on May 17th\, 2025.
URL:https://www.realcrisis.org/event/tackle-the-tar/
END:VEVENT
BEGIN:VEVENT
DTSTART;TZID=America/New_York:20250517T090000
DTEND;TZID=America/New_York:20250517T120000
DTSTAMP:20260422T045758
CREATED:20250331T191343Z
LAST-MODIFIED:20250331T191343Z
UID:10000009-1747472400-1747483200@www.realcrisis.org
SUMMARY:Plant Sale
DESCRIPTION:Pitt County Master Gardener Plant Sale\nJoin us for our annual spring plant sale fundraiser on Saturday\, May 17 to support the Pitt County Arboretum and Extension Master Gardener program of Pitt County. The sale will open for our Friends of the Arboretum at 9:00am and will be open to the general public from 10:00am – Noon. We will have a wide array of perennials\, trees\, shrubs\, vegetable\, herb\, annual\, and houseplants\, along with gloves\, pots\, and other garden accessories. All sales are cash or check only. Rain or shine. \nhttps://www.facebook.com/events/1691445795080245
URL:https://www.realcrisis.org/event/plant-sale/
LOCATION:Pitt County Arboretum\, 403 Government Circle\, Greenville\, N\, 27834\, United States
ATTACH;FMTTYPE=image/png:https://www.realcrisis.org/wp-content/uploads/2025/03/Plant-Sale-Flyer-2025.png
ORGANIZER;CN="Pitt County Master Gardeners":MAILTO:matt_stevens@ncsu.edu
END:VEVENT
BEGIN:VEVENT
DTSTART;TZID=America/New_York:20250517T090000
DTEND;TZID=America/New_York:20250517T130000
DTSTAMP:20260422T045758
CREATED:20250321T145628Z
LAST-MODIFIED:20250321T145628Z
UID:10000004-1747472400-1747486800@www.realcrisis.org
SUMMARY:Memory Bear Workshop
DESCRIPTION:At ECU Health Home Health and Hospice\, we know the value of having a tangible reminder of your loved one. That’s why we are hosting a Memory Bear Workshop to help you and other grieving families.  At the memory bear workshop\, you will work with a volunteer seamstress to create a unique bear stitched together from an article of clothing that belonged to your loved one. \nTo register or for more information:  Call Sarah Taylor at ECU Health Home Health and Hospice 252-847-2000 \nDo you sew and have an interest in volunteering?  Call Hiliary Jarmin at ECU Health Home Health and Hospice 252-847-2000
URL:https://www.realcrisis.org/event/memory-bear-workshop/
LOCATION:ECU Health Home Health and Hospice\, 1005 W.H. Smith Blvd.\, Greenville\, 27834
ATTACH;FMTTYPE=image/png:https://www.realcrisis.org/wp-content/uploads/2025/03/5-17-memory-bear.png
END:VEVENT
END:VCALENDAR